BEGIN:VCALENDAR
VERSION:2.0
PRODID:-//ChamberMaster//Event Calendar 2.0//EN
METHOD:PUBLISH
X-PUBLISHED-TTL:P1H
REFRESH-INTERVAL:P1H
CALSCALE:GREGORIAN
BEGIN:VTIMEZONE
TZID:America/Chicago
BEGIN:DAYLIGHT
RRULE:FREQ=YEARLY;BYMONTH=3;BYDAY=2SU
DTSTART:20070101T000000
TZOFFSETFROM:-0600
TZOFFSETTO:-0500
TZNAME:Central Daylight Time
END:DAYLIGHT
BEGIN:STANDARD
RRULE:FREQ=YEARLY;BYMONTH=11;BYDAY=1SU
DTSTART:20070101T000000
TZOFFSETFROM:-0500
TZOFFSETTO:-0600
TZNAME:Central Standard Time
END:STANDARD
END:VTIMEZONE
BEGIN:VEVENT
DTSTART;TZID=America/Chicago:20241126T173000
DTEND;TZID=America/Chicago:20241126T203000
X-MICROSOFT-CDO-ALLDAYEVENT:FALSE
SUMMARY:SWLABCC Corporate Connect
DESCRIPTION:The Corporate Connect bridges the gap between Black business owners and regional corporations with contracting and procurement opportunities.
X-ALT-DESC;FMTTYPE=text/html:<!DOCTYPE html><html><head><title></title></head><body aria-disabled="false"><p>The Corporate Connect bridges the gap between Black business owners and regional corporations with contracting and procurement opportunities. &nbsp\;</p></body></html>
LOCATION:124 S. Buchanan St Lafayette 70501
UID:e.4015.1079708
SEQUENCE:3
DTSTAMP:20260421T164807Z
URL:https://greatersouthwestlouisianablackchamberofcommerce.growthzoneapp.com/eventcalendar/Details/swlabcc-corporate-connect-1245018?sourceTypeId=Hub
END:VEVENT
END:VCALENDAR
